BEGIN:VCALENDAR
VERSION:2.0
PRODID:-//Gatewood Club &amp; Community - ECPv6.15.18//NONSGML v1.0//EN
CALSCALE:GREGORIAN
METHOD:PUBLISH
X-ORIGINAL-URL:https://gatewoodclub.com
X-WR-CALDESC:Events for Gatewood Club &amp; Community
REFRESH-INTERVAL;VALUE=DURATION:PT1H
X-Robots-Tag:noindex
X-PUBLISHED-TTL:PT1H
BEGIN:VTIMEZONE
TZID:America/New_York
BEGIN:DAYLIGHT
TZOFFSETFROM:-0500
TZOFFSETTO:-0400
TZNAME:EDT
DTSTART:20210314T070000
END:DAYLIGHT
BEGIN:STANDARD
TZOFFSETFROM:-0400
TZOFFSETTO:-0500
TZNAME:EST
DTSTART:20211107T060000
END:STANDARD
BEGIN:DAYLIGHT
TZOFFSETFROM:-0500
TZOFFSETTO:-0400
TZNAME:EDT
DTSTART:20220313T070000
END:DAYLIGHT
BEGIN:STANDARD
TZOFFSETFROM:-0400
TZOFFSETTO:-0500
TZNAME:EST
DTSTART:20221106T060000
END:STANDARD
BEGIN:DAYLIGHT
TZOFFSETFROM:-0500
TZOFFSETTO:-0400
TZNAME:EDT
DTSTART:20230312T070000
END:DAYLIGHT
BEGIN:STANDARD
TZOFFSETFROM:-0400
TZOFFSETTO:-0500
TZNAME:EST
DTSTART:20231105T060000
END:STANDARD
END:VTIMEZONE
BEGIN:VEVENT
DTSTART;TZID=America/New_York:20221107T180000
DTEND;TZID=America/New_York:20221107T200000
DTSTAMP:20260419T143058
CREATED:20221102T183454Z
LAST-MODIFIED:20221102T183716Z
UID:2264-1667844000-1667851200@gatewoodclub.com
SUMMARY:Craft Class: Ceramic Christmas Tree with Lights
DESCRIPTION:This class will be led by someone from the Arts Center of Greenwood. We will paint the trees\, they will be kiln fired at the Arts Center. (You will need to pick your tree up at the Arts Center after it is fired.) Lights provided. $45 per person\, DEADLINE TO SIGN UP: Monday\, October 31. This is also the DEADLINE TO CANCEL for a refund. Guests welcome\, guest rules apply. Please\, no children under the age of 16.
URL:https://gatewoodclub.com/event/ceramic-christmas-tree-with-lights/
CATEGORIES:Clubhouse,Community
END:VEVENT
BEGIN:VEVENT
DTSTART;TZID=America/New_York:20221114T183000
DTEND;TZID=America/New_York:20221114T193000
DTSTAMP:20260419T143058
CREATED:20221102T181745Z
LAST-MODIFIED:20221102T183757Z
UID:2255-1668450600-1668454200@gatewoodclub.com
SUMMARY:Master Gardener Presentation
DESCRIPTION:Clair Harmon will speak on the reproduction of plants.
URL:https://gatewoodclub.com/event/master-gardener-2/
CATEGORIES:Clubhouse,Community
END:VEVENT
BEGIN:VEVENT
DTSTART;TZID=America/New_York:20221117T173000
DTEND;TZID=America/New_York:20221117T200000
DTSTAMP:20260419T143058
CREATED:20221102T182412Z
LAST-MODIFIED:20221102T182412Z
UID:2257-1668706200-1668715200@gatewoodclub.com
SUMMARY:Third Thursday Trivia
DESCRIPTION:Monthly\, third Thursday. November date: 11/17. Calhoun’s opens at 5:30\, Trivia starts promptly at \n\n\n\n6:30. Come and join the fun! Form your own team (5 people maximum) or join another team!
URL:https://gatewoodclub.com/event/third-thursday-trivia-3/
CATEGORIES:Clubhouse,Community
END:VEVENT
BEGIN:VEVENT
DTSTART;TZID=America/New_York:20221124T080000
DTEND;TZID=America/New_York:20221124T100000
DTSTAMP:20260419T143058
CREATED:20221104T103528Z
LAST-MODIFIED:20221104T103826Z
UID:2284-1669276800-1669284000@gatewoodclub.com
SUMMARY:Race to Be Thankful
DESCRIPTION:Come join us for a fun 5K run/walk through the beautiful Gatewood neighborhood on Thanksgiving Day!  This race features stunning autumn views passing the peaceful ponds and magnificent woods of Gatewood.  The course is paved and rolling in terrain with minimal traffic. All abilities and ages are welcome. Prizes will be given to the overall male and female runners\, overall masters male and female winner and to age group winners in 10 year increments. We offer terrific post race goodies for breakfast including hot coffee and hot chocolate.  Registration can be with or without a t shirt\, but sign up by November 8th to be guaranteed a shirt! We may have some additional ones for sale on race day\, but no guarantees.  We will have pre race packet pick up at The Church of the Resurrection 700 Main St S\, Greenwood\, SC on Wednesday November 23rd from 3-5pm as well as on race day starting at 7 am at the Gatewood Club. \n\n\n\nThis is our 6th year and this race is organized by the Episcopal Church of the Resurrection of Greenwood.  We donate all profits to local charities including the Greenwood Food Bank\, the Greenwood Soup Kitchen\, United Ministries\, Community Initiatives\, and Bowers Rogers Home.  \n\n\n\nPast results are located here:  https://sites.google.com/view/its-about-time/results?authuser=0 \n\n\n\nRegistration ends November 20\, 2022 at 11:59pm EST \n\n\n\nhttps://runsignup.com/Race/SC/Greenwood/ThanksgivingDayRacetoBeThankful \n\n\n\nIf you have any questions about this race\, please contact the race director at kimjer100@gmail.com
URL:https://gatewoodclub.com/event/race-to-be-thankful-2/
CATEGORIES:Clubhouse,Community
END:VEVENT
BEGIN:VEVENT
DTSTART;TZID=America/New_York:20221128T180000
DTEND;TZID=America/New_York:20221128T200000
DTSTAMP:20260419T143058
CREATED:20221102T183354Z
LAST-MODIFIED:20221102T183738Z
UID:2262-1669658400-1669665600@gatewoodclub.com
SUMMARY:Craft Class: Christmas Wreath and Mailbox Swag Making
DESCRIPTION:Back by popular demand! This event was a great success last year and we are fortunate that the same person who led it last year will do so this year! You can make either a wreath or a swag\, OR you can make two items: 1 wreath/1 swag\, or 2 wreaths. The cost includes everything needed- all greenery\, wreath form\, swag form (does not include bows if you should want one). You can bring things from your own yard to add to what will be provided if you choose. Cost is $55 for one item\, $100 for two. DEADLINE to register: MONDAY\, NOV. 21. This is also the DEADLINE to CANCEL for a refund.
URL:https://gatewoodclub.com/event/christmas-wreath-and-mailbox-swag-making/
CATEGORIES:Clubhouse,Community
END:VEVENT
END:VCALENDAR