BEGIN:VCALENDAR
VERSION:2.0
PRODID:-//Gatewood Club &amp; Community - ECPv6.15.18//NONSGML v1.0//EN
CALSCALE:GREGORIAN
METHOD:PUBLISH
X-ORIGINAL-URL:https://gatewoodclub.com
X-WR-CALDESC:Events for Gatewood Club &amp; Community
REFRESH-INTERVAL;VALUE=DURATION:PT1H
X-Robots-Tag:noindex
X-PUBLISHED-TTL:PT1H
BEGIN:VTIMEZONE
TZID:America/New_York
BEGIN:DAYLIGHT
TZOFFSETFROM:-0500
TZOFFSETTO:-0400
TZNAME:EDT
DTSTART:20210314T070000
END:DAYLIGHT
BEGIN:STANDARD
TZOFFSETFROM:-0400
TZOFFSETTO:-0500
TZNAME:EST
DTSTART:20211107T060000
END:STANDARD
BEGIN:DAYLIGHT
TZOFFSETFROM:-0500
TZOFFSETTO:-0400
TZNAME:EDT
DTSTART:20220313T070000
END:DAYLIGHT
BEGIN:STANDARD
TZOFFSETFROM:-0400
TZOFFSETTO:-0500
TZNAME:EST
DTSTART:20221106T060000
END:STANDARD
BEGIN:DAYLIGHT
TZOFFSETFROM:-0500
TZOFFSETTO:-0400
TZNAME:EDT
DTSTART:20230312T070000
END:DAYLIGHT
BEGIN:STANDARD
TZOFFSETFROM:-0400
TZOFFSETTO:-0500
TZNAME:EST
DTSTART:20231105T060000
END:STANDARD
END:VTIMEZONE
BEGIN:VEVENT
DTSTART;TZID=America/New_York:20220806T200000
DTEND;TZID=America/New_York:20220806T220000
DTSTAMP:20260419T192613
CREATED:20220718T184041Z
LAST-MODIFIED:20220803T185920Z
UID:2180-1659816000-1659823200@gatewoodclub.com
SUMMARY:Kid's Movie Night at the Pool
DESCRIPTION:(back by popular demand) Date: Saturday\, August 6th Time: Movie starts at 8:30pm Movie: Sing 2 (rated PG) \n\n\n\nEnjoy the movie “Sing 2” while floating in the pool or bring a chair to set up on the edge of the pool! A free “movie snack box” will be provided for children. Other refreshments\, snacks\, and adult beverages will be available for purchase at the snack bar! In case of rain we will move the event to inside the clubhouse! Children must be accompanied by an adult. This event is for Gatewood residents and members. Guest rules apply.
URL:https://gatewoodclub.com/event/family-movie-night-poolside/
CATEGORIES:Clubhouse,Community,Pool
END:VEVENT
BEGIN:VEVENT
DTSTART;TZID=America/New_York:20220808T183000
DTEND;TZID=America/New_York:20220808T200000
DTSTAMP:20260419T192613
CREATED:20220803T185429Z
LAST-MODIFIED:20220803T185430Z
UID:2195-1659983400-1659988800@gatewoodclub.com
SUMMARY:Craft Class
DESCRIPTION:Monday\, August 8th at 6:30 pm in the Clubhouse (rooms may vary) \n\n\n\nWe will be painting 2 wine glasses. \n\n\n\nOur very own Jaciene Davis will be sharing her Pointillism talent as we paint our glasses. \n\n\n\n$20.00 per person (no children under the age of 16) \n\n\n\nRESERVATIONS REQUIRED \n\n\n\nby calling Donna at the Clubhouse before August 4th. This event is for Gatewood residents and members. Guest rules apply
URL:https://gatewoodclub.com/event/craft-class-2/
CATEGORIES:Clubhouse,Community
END:VEVENT
BEGIN:VEVENT
DTSTART;TZID=America/New_York:20220809T130000
DTEND;TZID=America/New_York:20220809T140000
DTSTAMP:20260419T192613
CREATED:20220803T185646Z
LAST-MODIFIED:20220803T185647Z
UID:2197-1660050000-1660053600@gatewoodclub.com
SUMMARY:ASL (American Sign Language) Class
DESCRIPTION:Monthly 2nd Tuesday \n\n\n\nTuesday\, August 9th at 5 pm in the Sunroom upstairs of the Clubhouse.
URL:https://gatewoodclub.com/event/asl-american-sign-language-class/
CATEGORIES:Clubhouse,Community
END:VEVENT
BEGIN:VEVENT
DTSTART;TZID=America/New_York:20220815T180000
DTEND;TZID=America/New_York:20220815T200000
DTSTAMP:20260419T192613
CREATED:20220803T182924Z
LAST-MODIFIED:20220803T182924Z
UID:2186-1660586400-1660593600@gatewoodclub.com
SUMMARY:POA Board Meeting
DESCRIPTION:
URL:https://gatewoodclub.com/event/poa-board-meeting-9/
CATEGORIES:Clubhouse,Community
END:VEVENT
BEGIN:VEVENT
DTSTART;TZID=America/New_York:20220818T183000
DTEND;TZID=America/New_York:20220818T200000
DTSTAMP:20260419T192613
CREATED:20220803T185747Z
LAST-MODIFIED:20220803T185747Z
UID:2199-1660847400-1660852800@gatewoodclub.com
SUMMARY:Third Thursday Trivia
DESCRIPTION:Thursday\, August 18th at 6:30 PM. Get your team together (5 max) and join us for a fun night! Calhoun’s opens at 5:30 and Trivia begins promptly at 6:30.
URL:https://gatewoodclub.com/event/third-thursday-trivia-2/
CATEGORIES:Clubhouse,Community
END:VEVENT
BEGIN:VEVENT
DTSTART;TZID=America/New_York:20220822T183000
DTEND;TZID=America/New_York:20220822T193000
DTSTAMP:20260419T192613
CREATED:20220803T190023Z
LAST-MODIFIED:20220803T190023Z
UID:2202-1661193000-1661196600@gatewoodclub.com
SUMMARY:Master Gardener Presentation
DESCRIPTION:Monday\, August 22 at 6:30 pm \n\n\n\nin the Main Dining Room of the Clubhouse
URL:https://gatewoodclub.com/event/master-gardener-presentation/
CATEGORIES:Clubhouse,Community
END:VEVENT
END:VCALENDAR