BEGIN:VCALENDAR
VERSION:2.0
PRODID:-//Gatewood Club &amp; Community - ECPv6.15.18//NONSGML v1.0//EN
CALSCALE:GREGORIAN
METHOD:PUBLISH
X-ORIGINAL-URL:https://gatewoodclub.com
X-WR-CALDESC:Events for Gatewood Club &amp; Community
REFRESH-INTERVAL;VALUE=DURATION:PT1H
X-Robots-Tag:noindex
X-PUBLISHED-TTL:PT1H
BEGIN:VTIMEZONE
TZID:America/New_York
BEGIN:DAYLIGHT
TZOFFSETFROM:-0500
TZOFFSETTO:-0400
TZNAME:EDT
DTSTART:20210314T070000
END:DAYLIGHT
BEGIN:STANDARD
TZOFFSETFROM:-0400
TZOFFSETTO:-0500
TZNAME:EST
DTSTART:20211107T060000
END:STANDARD
BEGIN:DAYLIGHT
TZOFFSETFROM:-0500
TZOFFSETTO:-0400
TZNAME:EDT
DTSTART:20220313T070000
END:DAYLIGHT
BEGIN:STANDARD
TZOFFSETFROM:-0400
TZOFFSETTO:-0500
TZNAME:EST
DTSTART:20221106T060000
END:STANDARD
BEGIN:DAYLIGHT
TZOFFSETFROM:-0500
TZOFFSETTO:-0400
TZNAME:EDT
DTSTART:20230312T070000
END:DAYLIGHT
BEGIN:STANDARD
TZOFFSETFROM:-0400
TZOFFSETTO:-0500
TZNAME:EST
DTSTART:20231105T060000
END:STANDARD
END:VTIMEZONE
BEGIN:VEVENT
DTSTART;TZID=America/New_York:20220711T100000
DTEND;TZID=America/New_York:20220715T150000
DTSTAMP:20260419T210214
CREATED:20220311T202932Z
LAST-MODIFIED:20220615T193239Z
UID:2034-1657533600-1657897200@gatewoodclub.com
SUMMARY:Gatewood Kids Camp
DESCRIPTION:Tennis: 10:00am – 11:30amLunch: 12:00pm – 1:00pmSwimming: 1:00pm – 3:00pm\n\n\n\nCost: $200 members /  $225 non-members \n\n\n\nSign up by calling the Pro Shop ( 223-1594 )
URL:https://gatewoodclub.com/event/22-summer-camp-3/
CATEGORIES:Pool,Tennis
END:VEVENT
BEGIN:VEVENT
DTSTART;TZID=America/New_York:20220711T183000
DTEND;TZID=America/New_York:20220711T200000
DTSTAMP:20260419T210214
CREATED:20220701T221900Z
LAST-MODIFIED:20220701T221900Z
UID:2170-1657564200-1657569600@gatewoodclub.com
SUMMARY:Craft Class
DESCRIPTION:Monthly 2nd Monday \n\n\n\nMonday\, July 11 at 6:30 pm in the Clubhouse (rooms may vary) \n\n\n\nWe will be making two natural citronella candles in small clay pots and painting our pots. $20.00 per person RESERVATIONS REQUIRED by calling Donna at the Clubhouse before July 6.
URL:https://gatewoodclub.com/event/craft-class/
END:VEVENT
BEGIN:VEVENT
DTSTART;TZID=America/New_York:20220712T170000
DTEND;TZID=America/New_York:20220712T183000
DTSTAMP:20260419T210214
CREATED:20220701T222121Z
LAST-MODIFIED:20220701T222122Z
UID:2174-1657645200-1657650600@gatewoodclub.com
SUMMARY:ASL ( American Sign Language ) Classes
DESCRIPTION:Monthly 2nd Tuesday Tuesday\, July 12 at 5 pm in the Sunroom upstairs of the Clubhouse
URL:https://gatewoodclub.com/event/asl-american-sign-language-classes/
CATEGORIES:Clubhouse,Community
END:VEVENT
BEGIN:VEVENT
DTSTART;TZID=America/New_York:20220716T203000
DTEND;TZID=America/New_York:20220716T223000
DTSTAMP:20260419T210214
CREATED:20220701T221548Z
LAST-MODIFIED:20220701T221549Z
UID:2166-1658003400-1658010600@gatewoodclub.com
SUMMARY:Kid's Movie Night at the Pool
DESCRIPTION:Saturday\, July 16 Movie (TBD) will begin at 8:30 pm. Bring the kiddo’s and come on out to a \n\n\n\nfun evening by the pool.
URL:https://gatewoodclub.com/event/kids-movie-night-at-the-pool/
CATEGORIES:Clubhouse,Community,Pool
END:VEVENT
BEGIN:VEVENT
DTSTART;TZID=America/New_York:20220718T100000
DTEND;TZID=America/New_York:20220720T150000
DTSTAMP:20260419T210214
CREATED:20220311T203041Z
LAST-MODIFIED:20220615T193228Z
UID:2036-1658138400-1658329200@gatewoodclub.com
SUMMARY:Gatewood Kids Camp
DESCRIPTION:Tennis: 10:00am – 11:30amLunch: 12:00pm – 1:00pmSwimming: 1:00pm – 3:00pm\n\n\n\nCost: $150 members /  $175 non-members \n\n\n\nSign up by calling the Pro Shop ( 223-1594 )
URL:https://gatewoodclub.com/event/22-summer-camp-4/
CATEGORIES:Pool,Tennis
END:VEVENT
BEGIN:VEVENT
DTSTART;TZID=America/New_York:20220721T183000
DTEND;TZID=America/New_York:20220721T200000
DTSTAMP:20260419T210214
CREATED:20220701T222315Z
LAST-MODIFIED:20220701T222316Z
UID:2176-1658428200-1658433600@gatewoodclub.com
SUMMARY:Third Thursday Trivia
DESCRIPTION:Monthly 3rd Thursday  \n\n\n\nThursday\, July 21 at 6:30 PM \n\n\n\nGet your team together (5 max) and join us for a fun night! Calhoun’s opens at 5:30 and Trivia begins promptly at 6:30.
URL:https://gatewoodclub.com/event/third-thursday-trivia-7-22/
CATEGORIES:Clubhouse,Community
END:VEVENT
BEGIN:VEVENT
DTSTART;TZID=America/New_York:20220725T183000
DTEND;TZID=America/New_York:20220725T193000
DTSTAMP:20260419T210214
CREATED:20220701T221726Z
LAST-MODIFIED:20220701T221726Z
UID:2168-1658773800-1658777400@gatewoodclub.com
SUMMARY:Master Gardener
DESCRIPTION:PRESENTATION – SOUTHERN LAWN MAINTENANCE –  Monday\, July 25 at 6:30 pm in the Main Dining Room of the Clubhouse.
URL:https://gatewoodclub.com/event/master-gardener/
CATEGORIES:Clubhouse,Community
END:VEVENT
BEGIN:VEVENT
DTSTART;TZID=America/New_York:20220729T180000
DTEND;TZID=America/New_York:20220729T210000
DTSTAMP:20260419T210214
CREATED:20220701T221959Z
LAST-MODIFIED:20220701T222000Z
UID:2172-1659117600-1659128400@gatewoodclub.com
SUMMARY:Gatewood Pool Party
DESCRIPTION:Friday\, July 29 at 6:00 pm Band starts at 7:00 pm. We will have an acoustic band “Month Of Monday’s” playing outside with a food truck – more information to come in weekly email updates.
URL:https://gatewoodclub.com/event/gatewood-pool-party/
CATEGORIES:Clubhouse,Community,Pool
END:VEVENT
END:VCALENDAR