BEGIN:VCALENDAR
VERSION:2.0
PRODID:-//Gatewood Club &amp; Community - ECPv6.15.18//NONSGML v1.0//EN
CALSCALE:GREGORIAN
METHOD:PUBLISH
X-WR-CALNAME:Gatewood Club &amp; Community
X-ORIGINAL-URL:https://gatewoodclub.com
X-WR-CALDESC:Events for Gatewood Club &amp; Community
REFRESH-INTERVAL;VALUE=DURATION:PT1H
X-Robots-Tag:noindex
X-PUBLISHED-TTL:PT1H
BEGIN:VTIMEZONE
TZID:America/New_York
BEGIN:DAYLIGHT
TZOFFSETFROM:-0500
TZOFFSETTO:-0400
TZNAME:EDT
DTSTART:20210314T070000
END:DAYLIGHT
BEGIN:STANDARD
TZOFFSETFROM:-0400
TZOFFSETTO:-0500
TZNAME:EST
DTSTART:20211107T060000
END:STANDARD
BEGIN:DAYLIGHT
TZOFFSETFROM:-0500
TZOFFSETTO:-0400
TZNAME:EDT
DTSTART:20220313T070000
END:DAYLIGHT
BEGIN:STANDARD
TZOFFSETFROM:-0400
TZOFFSETTO:-0500
TZNAME:EST
DTSTART:20221106T060000
END:STANDARD
BEGIN:DAYLIGHT
TZOFFSETFROM:-0500
TZOFFSETTO:-0400
TZNAME:EDT
DTSTART:20230312T070000
END:DAYLIGHT
BEGIN:STANDARD
TZOFFSETFROM:-0400
TZOFFSETTO:-0500
TZNAME:EST
DTSTART:20231105T060000
END:STANDARD
END:VTIMEZONE
BEGIN:VEVENT
DTSTART;TZID=America/New_York:20220606T100000
DTEND;TZID=America/New_York:20220610T150000
DTSTAMP:20260419T223411
CREATED:20220311T202642Z
LAST-MODIFIED:20220311T205134Z
UID:2030-1654509600-1654873200@gatewoodclub.com
SUMMARY:Gatewood Kids Camp
DESCRIPTION:Tennis: 10:00am – 11:30amLunch: 12:00pm – 1:00pmSwimming: 1:00pm – 3:00pm\n\n\n\nCost: $200 members /  $225 non-members \n\n\n\nSign up by calling the Pro Shop ( 223-1594 )
URL:https://gatewoodclub.com/event/22-summer-camp/
CATEGORIES:Community,Pool,Tennis
ATTACH;FMTTYPE=image/jpeg:https://gatewoodclub.com/wp-content/uploads/2022_Tennis_Camps.jpg
END:VEVENT
BEGIN:VEVENT
DTSTART;TZID=America/New_York:20220620T100000
DTEND;TZID=America/New_York:20220624T150000
DTSTAMP:20260419T223411
CREATED:20220311T202813Z
LAST-MODIFIED:20220615T193300Z
UID:2032-1655719200-1656082800@gatewoodclub.com
SUMMARY:Gatewood Kids Camp
DESCRIPTION:Tennis: 10:00am – 11:30amLunch: 12:00pm – 1:00pmSwimming: 1:00pm – 3:00pm\n\n\n\nCost: $200 members /  $225 non-members \n\n\n\nSign up by calling the Pro Shop ( 223-1594 )
URL:https://gatewoodclub.com/event/22-summer-camp-2/
CATEGORIES:Pool,Tennis
END:VEVENT
BEGIN:VEVENT
DTSTART;TZID=America/New_York:20220620T180000
DTEND;TZID=America/New_York:20220620T200000
DTSTAMP:20260419T223411
CREATED:20220615T193052Z
LAST-MODIFIED:20220615T193342Z
UID:2143-1655748000-1655755200@gatewoodclub.com
SUMMARY:Annual POA Meeting
DESCRIPTION:This is a reminder that the Gatewood Annual Meeting will be conducted Monday\, June 20th beginning at 6pm in the downstairs of the Clubhouse. The Board of Directors hopes all members will be able to attend. Immediately following the meeting\, Howard’s on Main will provide some food and  refreshments.
URL:https://gatewoodclub.com/event/annual-poa-meeting-2022/
CATEGORIES:Clubhouse,Community
END:VEVENT
BEGIN:VEVENT
DTSTART;TZID=America/New_York:20220627T183000
DTEND;TZID=America/New_York:20220627T193000
DTSTAMP:20260419T223411
CREATED:20220622T201629Z
LAST-MODIFIED:20220622T201629Z
UID:2153-1656354600-1656358200@gatewoodclub.com
SUMMARY:Master Gardener Class
DESCRIPTION:Monday\, June 27th 6:30pm Stephanie Turner\, Horticulture Agent for the Greenwood Cooperative Extension of Clemson University will present on Herbs – Main Dining Room of the Clubhouse
URL:https://gatewoodclub.com/event/master-gardener-class-6-22/
CATEGORIES:Clubhouse,Community
END:VEVENT
END:VCALENDAR