BEGIN:VCALENDAR
VERSION:2.0
PRODID:-//Gatewood Club &amp; Community - ECPv6.15.18//NONSGML v1.0//EN
CALSCALE:GREGORIAN
METHOD:PUBLISH
X-WR-CALNAME:Gatewood Club &amp; Community
X-ORIGINAL-URL:https://gatewoodclub.com
X-WR-CALDESC:Events for Gatewood Club &amp; Community
REFRESH-INTERVAL;VALUE=DURATION:PT1H
X-Robots-Tag:noindex
X-PUBLISHED-TTL:PT1H
BEGIN:VTIMEZONE
TZID:America/New_York
BEGIN:DAYLIGHT
TZOFFSETFROM:-0500
TZOFFSETTO:-0400
TZNAME:EDT
DTSTART:20210314T070000
END:DAYLIGHT
BEGIN:STANDARD
TZOFFSETFROM:-0400
TZOFFSETTO:-0500
TZNAME:EST
DTSTART:20211107T060000
END:STANDARD
BEGIN:DAYLIGHT
TZOFFSETFROM:-0500
TZOFFSETTO:-0400
TZNAME:EDT
DTSTART:20220313T070000
END:DAYLIGHT
BEGIN:STANDARD
TZOFFSETFROM:-0400
TZOFFSETTO:-0500
TZNAME:EST
DTSTART:20221106T060000
END:STANDARD
BEGIN:DAYLIGHT
TZOFFSETFROM:-0500
TZOFFSETTO:-0400
TZNAME:EDT
DTSTART:20230312T070000
END:DAYLIGHT
BEGIN:STANDARD
TZOFFSETFROM:-0400
TZOFFSETTO:-0500
TZNAME:EST
DTSTART:20231105T060000
END:STANDARD
END:VTIMEZONE
BEGIN:VEVENT
DTSTART;TZID=America/New_York:20220305T100000
DTEND;TZID=America/New_York:20220305T140000
DTSTAMP:20260420T034446
CREATED:20220309T183655Z
LAST-MODIFIED:20220309T183656Z
UID:2026-1646474400-1646488800@gatewoodclub.com
SUMMARY:First Saturday - Mimosa and Bloody Mary Bar 
DESCRIPTION:First Saturday (March 5) Mimosa and Bloody Mary Bar 10am to 2 pm
URL:https://gatewoodclub.com/event/first-saturday-mimosa-and-bloody-mary-bar/
CATEGORIES:Clubhouse
END:VEVENT
BEGIN:VEVENT
DTSTART;TZID=America/New_York:20220312T093000
DTEND;TZID=America/New_York:20220312T110000
DTSTAMP:20260420T034446
CREATED:20220309T183010Z
LAST-MODIFIED:20220309T183011Z
UID:2022-1647077400-1647082800@gatewoodclub.com
SUMMARY:Yoga
DESCRIPTION:Every Saturday 10:00 at the Clubhouse \n\n\n\n·  If you would like to bring a guest there is only a $10 FEE \n\n\n\n·  Please text Bess Park at 864-337-4169 to reserve your spot
URL:https://gatewoodclub.com/event/yoga-2/
CATEGORIES:Clubhouse
END:VEVENT
BEGIN:VEVENT
DTSTART;TZID=America/New_York:20220317T163000
DTEND;TZID=America/New_York:20220317T200000
DTSTAMP:20260420T034446
CREATED:20220309T183355Z
LAST-MODIFIED:20220309T183356Z
UID:2024-1647534600-1647547200@gatewoodclub.com
SUMMARY:Third Thursday Trivia Night
DESCRIPTION:Third Thursday Trivia (March 17th) opens at 4:30\, starts at 6:30
URL:https://gatewoodclub.com/event/third-thursday-trivia-night-2/
CATEGORIES:Clubhouse
END:VEVENT
BEGIN:VEVENT
DTSTART;TZID=America/New_York:20220318T173000
DTEND;TZID=America/New_York:20220318T210000
DTSTAMP:20260420T034446
CREATED:20220303T200031Z
LAST-MODIFIED:20220303T200235Z
UID:2005-1647624600-1647637200@gatewoodclub.com
SUMMARY:St Patrick's Day Celebration
DESCRIPTION:St Patrick’s Day Happy Hour Celebration Friday\, March 18th – wear your green\, bring your favorite Irish dish\, if you don’t have one\, bring your favorite “Green” dish to share with others. If you wear your “Green” you will be entered into a chance to take home a St Patrick’s Day themed basket.
URL:https://gatewoodclub.com/event/st-patricks-day-celebration/
CATEGORIES:Clubhouse,Community
END:VEVENT
BEGIN:VEVENT
DTSTART;TZID=America/New_York:20220321T180000
DTEND;TZID=America/New_York:20220321T193000
DTSTAMP:20260420T034446
CREATED:20220309T220104Z
LAST-MODIFIED:20220309T220105Z
UID:2028-1647885600-1647891000@gatewoodclub.com
SUMMARY:POA Board Meeting
DESCRIPTION:
URL:https://gatewoodclub.com/event/poa-board-meeting-7/
CATEGORIES:Community
END:VEVENT
BEGIN:VEVENT
DTSTART;TZID=America/New_York:20220325T120000
DTEND;TZID=America/New_York:20220327T170000
DTSTAMP:20260420T034446
CREATED:20220201T183919Z
LAST-MODIFIED:20220309T182400Z
UID:1950-1648209600-1648400400@gatewoodclub.com
SUMMARY:Spring into Pickleball
DESCRIPTION:The weekend of March 11-13\, Gatewood will host our first annual “Spring into Pickleball” Round Robin Tournament. This event will feature ladies’\, men’s and mixed doubles. Contact Lynn Isenhower\, 864-993-6715\, if you will help recruit sponsors or provide hospitality.  All profits from the tournament will go toward the Gatewood pickleball court renovation project. Registration will be handled by Pickleballtournaments.com
URL:https://gatewoodclub.com/event/spring-in-pickleball/
CATEGORIES:Community,Tennis
END:VEVENT
BEGIN:VEVENT
DTSTART;TZID=America/New_York:20220327T140000
DTEND;TZID=America/New_York:20220327T170000
DTSTAMP:20260420T034446
CREATED:20220303T195653Z
LAST-MODIFIED:20220303T200159Z
UID:2003-1648389600-1648400400@gatewoodclub.com
SUMMARY:Paint and Pour
DESCRIPTION:Join your neighbors for Paint and Pour! Sunday\, March 27\, 2-4 PM at the Clubhouse. $30.00 per person (will be charged to your account). This $30 does not include the “Pour”\, it only covers materials and instruction for painting. You may get a “Pour”\, if you wish\, from the bar at Calhoun’s during the event. Reserve your space by Wednesday\, March 23. This is also the date for cancellations. \n\n\n\nRefunds cannot be issued after March 23. If you’ve never participated in a Paint and Pour\, you don’t know what you’re missing! Join the fun and bring out your inner artist!
URL:https://gatewoodclub.com/event/paint-and-pour/
CATEGORIES:Clubhouse,Community
END:VEVENT
END:VCALENDAR