BEGIN:VCALENDAR
VERSION:2.0
PRODID:-//Gatewood Club &amp; Community - ECPv6.15.18//NONSGML v1.0//EN
CALSCALE:GREGORIAN
METHOD:PUBLISH
X-WR-CALNAME:Gatewood Club &amp; Community
X-ORIGINAL-URL:https://gatewoodclub.com
X-WR-CALDESC:Events for Gatewood Club &amp; Community
REFRESH-INTERVAL;VALUE=DURATION:PT1H
X-Robots-Tag:noindex
X-PUBLISHED-TTL:PT1H
BEGIN:VTIMEZONE
TZID:America/New_York
BEGIN:DAYLIGHT
TZOFFSETFROM:-0500
TZOFFSETTO:-0400
TZNAME:EDT
DTSTART:20210314T070000
END:DAYLIGHT
BEGIN:STANDARD
TZOFFSETFROM:-0400
TZOFFSETTO:-0500
TZNAME:EST
DTSTART:20211107T060000
END:STANDARD
BEGIN:DAYLIGHT
TZOFFSETFROM:-0500
TZOFFSETTO:-0400
TZNAME:EDT
DTSTART:20220313T070000
END:DAYLIGHT
BEGIN:STANDARD
TZOFFSETFROM:-0400
TZOFFSETTO:-0500
TZNAME:EST
DTSTART:20221106T060000
END:STANDARD
BEGIN:DAYLIGHT
TZOFFSETFROM:-0500
TZOFFSETTO:-0400
TZNAME:EDT
DTSTART:20230312T070000
END:DAYLIGHT
BEGIN:STANDARD
TZOFFSETFROM:-0400
TZOFFSETTO:-0500
TZNAME:EST
DTSTART:20231105T060000
END:STANDARD
END:VTIMEZONE
BEGIN:VEVENT
DTSTART;TZID=America/New_York:20220107T170000
DTEND;TZID=America/New_York:20220107T190000
DTSTAMP:20260420T070804
CREATED:20220105T142541Z
LAST-MODIFIED:20220105T142542Z
UID:1926-1641574800-1641582000@gatewoodclub.com
SUMMARY:Regifting Party
DESCRIPTION:Don’t put away that gift you will NEVER use – We are having a Post Jingle Regifting Party! At our first Happy Hour of 2022 – Friday\, January 7th we will have a regifting party for anyone that wants to participate. You know that gift (or gifts) you got for Christmas that you will NEVER use\, we have an enjoyable and creative way you can REGIFT them! Place it in a brown paper bag and close it up tightly. You can use a grocery bag or lunch bag\, depending on the size needed. If you have problems finding brown bag(s) we will have some at the office of the clubhouse the week before. Then bring it to our Happy Hour at Calhoun’s on Friday\, January 7th any time after 5pm and we will have a table set up where you “bring a gift\, take a gift”! We have a drink and share some time together as we also enjoy watching everyone open their NEW gifts.
URL:https://gatewoodclub.com/event/regifting-party/
CATEGORIES:Clubhouse,Community
END:VEVENT
BEGIN:VEVENT
DTSTART;TZID=America/New_York:20220108T093000
DTEND;TZID=America/New_York:20220108T100000
DTSTAMP:20260420T070804
CREATED:20220105T142412Z
LAST-MODIFIED:20220105T142412Z
UID:1924-1641634200-1641636000@gatewoodclub.com
SUMMARY:Yoga
DESCRIPTION:Yoga is BACK this Saturday! And every Saturday morning at 9:30am and is FREE to Gatewood members.This is an hour class and is appropriate for all levels\, beginners through advanced!Members may bring a guest for the fee of $10.00 cash.Please text Bess Park at 864-337-4169 to reserve your spot to avoid arriving to a full class.
URL:https://gatewoodclub.com/event/yoga/
CATEGORIES:Clubhouse,Community
END:VEVENT
BEGIN:VEVENT
DTSTART;TZID=America/New_York:20220124T180000
DTEND;TZID=America/New_York:20220124T193000
DTSTAMP:20260420T070804
CREATED:20220105T141446Z
LAST-MODIFIED:20220118T153302Z
UID:1922-1643047200-1643052600@gatewoodclub.com
SUMMARY:POA Board Meeting
DESCRIPTION:
URL:https://gatewoodclub.com/event/poa-board-meeting-5/
CATEGORIES:Community
END:VEVENT
END:VCALENDAR