BEGIN:VCALENDAR
VERSION:2.0
PRODID:-//Gatewood Club &amp; Community - ECPv6.15.18//NONSGML v1.0//EN
CALSCALE:GREGORIAN
METHOD:PUBLISH
X-ORIGINAL-URL:https://gatewoodclub.com
X-WR-CALDESC:Events for Gatewood Club &amp; Community
REFRESH-INTERVAL;VALUE=DURATION:PT1H
X-Robots-Tag:noindex
X-PUBLISHED-TTL:PT1H
BEGIN:VTIMEZONE
TZID:America/New_York
BEGIN:DAYLIGHT
TZOFFSETFROM:-0500
TZOFFSETTO:-0400
TZNAME:EDT
DTSTART:20200308T070000
END:DAYLIGHT
BEGIN:STANDARD
TZOFFSETFROM:-0400
TZOFFSETTO:-0500
TZNAME:EST
DTSTART:20201101T060000
END:STANDARD
BEGIN:DAYLIGHT
TZOFFSETFROM:-0500
TZOFFSETTO:-0400
TZNAME:EDT
DTSTART:20210314T070000
END:DAYLIGHT
BEGIN:STANDARD
TZOFFSETFROM:-0400
TZOFFSETTO:-0500
TZNAME:EST
DTSTART:20211107T060000
END:STANDARD
BEGIN:DAYLIGHT
TZOFFSETFROM:-0500
TZOFFSETTO:-0400
TZNAME:EDT
DTSTART:20220313T070000
END:DAYLIGHT
BEGIN:STANDARD
TZOFFSETFROM:-0400
TZOFFSETTO:-0500
TZNAME:EST
DTSTART:20221106T060000
END:STANDARD
END:VTIMEZONE
BEGIN:VEVENT
DTSTART;TZID=America/New_York:20211202T180000
DTEND;TZID=America/New_York:20211202T200000
DTSTAMP:20260420T092616
CREATED:20210930T201133Z
LAST-MODIFIED:20210930T201134Z
UID:1795-1638468000-1638475200@gatewoodclub.com
SUMMARY:Wreath & Mailbox Swag Making
DESCRIPTION:
URL:https://gatewoodclub.com/event/wreath-mailbox-swag-making/
CATEGORIES:Clubhouse,Community
END:VEVENT
BEGIN:VEVENT
DTSTART;TZID=America/New_York:20211211T140000
DTEND;TZID=America/New_York:20211211T160000
DTSTAMP:20260420T092616
CREATED:20210930T201250Z
LAST-MODIFIED:20211211T172549Z
UID:1797-1639231200-1639238400@gatewoodclub.com
SUMMARY:Christmas Cookies with Santa!
DESCRIPTION:CHRISTMAS COOKIES WITH SANTA! Saturday\, \n\n\n\nDec. 11\, 2-4 PM. Come visit\, talk to Santa and get a special treat! Christmas cookie decorating\, ornament making\, and more! Hot chocolate and Christmas Snack Mix to much on while watching How the Grinch Stole Christmas. Treats for adults\, too! No charge for this fun family event! \n\n\n\nIn conjunction with this event\, we are asking for donations to Meg’s House. Please visit this page for a wish list of their needs.
URL:https://gatewoodclub.com/event/christmas-cookies-with-santa/
CATEGORIES:Clubhouse,Community
END:VEVENT
BEGIN:VEVENT
DTSTART;TZID=America/New_York:20211212T130000
DTEND;TZID=America/New_York:20211212T170000
DTSTAMP:20260420T092616
CREATED:20211201T145249Z
LAST-MODIFIED:20211201T145334Z
UID:1905-1639314000-1639328400@gatewoodclub.com
SUMMARY:Christmas for Connie Maxwell Round Robin
DESCRIPTION:Sunday\, December 12\, 2 Bring a gift card\, for any amount\, to go to the kids at Connie Maxwell for Christmas. Please also bring a pot of chili for our Chili Cook Off or bring something to go with chili. Call the pro shop to sign up with a partner for this event for tennis or Pickleball. If you can’t attend this event\, you can drop off your gift card at the pro shop.
URL:https://gatewoodclub.com/event/christmas-for-connie-maxwell-kids-round-robin/
CATEGORIES:Community,Tennis
END:VEVENT
BEGIN:VEVENT
DTSTART;TZID=America/New_York:20211217T170000
DTEND;TZID=America/New_York:20211217T210000
DTSTAMP:20260420T092616
CREATED:20211201T102002Z
LAST-MODIFIED:20211201T145427Z
UID:1889-1639760400-1639774800@gatewoodclub.com
SUMMARY:Ugly Sweater Christmas Karaoke
DESCRIPTION:Friday\, December 17th at 5pm with Christmas Karaoke beginning at 7pm. Dig out your UGLY SWEATERS and tone up your voices! Join us for Calhoun’s first UGLY Sweater Christmas Karaoke Night!
URL:https://gatewoodclub.com/event/ugly-sweater-christmas-karaoke/
CATEGORIES:Clubhouse,Community
END:VEVENT
BEGIN:VEVENT
DTSTART;TZID=America/New_York:20211221T053000
DTEND;TZID=America/New_York:20211221T190000
DTSTAMP:20260420T092616
CREATED:20211201T101653Z
LAST-MODIFIED:20211201T101753Z
UID:1886-1640064600-1640113200@gatewoodclub.com
SUMMARY:Christmas Caroling Parade
DESCRIPTION:Tuesday\, December 21\, time TBA. Join us as we caravan through the neighborhood singing carols! We’ll have a trailer for folks to ride (and sing!) on\, and those that have golf carts can decorate them follow along\, and of course sing along too! More to follow!
URL:https://gatewoodclub.com/event/christmas-caroling-parade/
CATEGORIES:Clubhouse,Community
END:VEVENT
END:VCALENDAR