BEGIN:VCALENDAR
VERSION:2.0
PRODID:-//Gatewood Club &amp; Community - ECPv6.15.18//NONSGML v1.0//EN
CALSCALE:GREGORIAN
METHOD:PUBLISH
X-ORIGINAL-URL:https://gatewoodclub.com
X-WR-CALDESC:Events for Gatewood Club &amp; Community
REFRESH-INTERVAL;VALUE=DURATION:PT1H
X-Robots-Tag:noindex
X-PUBLISHED-TTL:PT1H
BEGIN:VTIMEZONE
TZID:America/New_York
BEGIN:DAYLIGHT
TZOFFSETFROM:-0500
TZOFFSETTO:-0400
TZNAME:EDT
DTSTART:20200308T070000
END:DAYLIGHT
BEGIN:STANDARD
TZOFFSETFROM:-0400
TZOFFSETTO:-0500
TZNAME:EST
DTSTART:20201101T060000
END:STANDARD
BEGIN:DAYLIGHT
TZOFFSETFROM:-0500
TZOFFSETTO:-0400
TZNAME:EDT
DTSTART:20210314T070000
END:DAYLIGHT
BEGIN:STANDARD
TZOFFSETFROM:-0400
TZOFFSETTO:-0500
TZNAME:EST
DTSTART:20211107T060000
END:STANDARD
BEGIN:DAYLIGHT
TZOFFSETFROM:-0500
TZOFFSETTO:-0400
TZNAME:EDT
DTSTART:20220313T070000
END:DAYLIGHT
BEGIN:STANDARD
TZOFFSETFROM:-0400
TZOFFSETTO:-0500
TZNAME:EST
DTSTART:20221106T060000
END:STANDARD
END:VTIMEZONE
BEGIN:VEVENT
DTSTART;TZID=America/New_York:20210927T100000
DTEND;TZID=America/New_York:20211001T140000
DTSTAMP:20260420T122605
CREATED:20210731T203840Z
LAST-MODIFIED:20210830T183346Z
UID:1690-1632736800-1633096800@gatewoodclub.com
SUMMARY:Gatewood Kids Camp
DESCRIPTION:Tennis: 10-11:45 Lunch: 12-1 Swimming: 1-2:00  \n\n\n\n$150 members $175 non-members
URL:https://gatewoodclub.com/event/gatewood-kids-camp-3/
CATEGORIES:Pool,Tennis
END:VEVENT
BEGIN:VEVENT
DTSTART;TZID=America/New_York:20211018T180000
DTEND;TZID=America/New_York:20211018T193000
DTSTAMP:20260420T122605
CREATED:20210930T203056Z
LAST-MODIFIED:20210930T203057Z
UID:1814-1634580000-1634585400@gatewoodclub.com
SUMMARY:POA Board Meeting
DESCRIPTION:
URL:https://gatewoodclub.com/event/poa-board-meeting-4/
CATEGORIES:Clubhouse,Community
END:VEVENT
BEGIN:VEVENT
DTSTART;TZID=America/New_York:20211022T170000
DTEND;TZID=America/New_York:20211022T210000
DTSTAMP:20260420T122605
CREATED:20210930T200729Z
LAST-MODIFIED:20210930T201449Z
UID:1791-1634922000-1634936400@gatewoodclub.com
SUMMARY:It’s 5:00 (Again) in Gatewood
DESCRIPTION:The grand opening of the bar at the clubhouse has been set – mark your calendars to be there to celebrate with us!
URL:https://gatewoodclub.com/event/its-500-again-in-gatewood/
CATEGORIES:Clubhouse,Community
END:VEVENT
BEGIN:VEVENT
DTSTART;TZID=America/New_York:20211024T140000
DTEND;TZID=America/New_York:20211024T180000
DTSTAMP:20260420T122605
CREATED:20210830T170810Z
LAST-MODIFIED:20210930T204744Z
UID:1766-1635084000-1635098400@gatewoodclub.com
SUMMARY:Humane Society Round Robin-Boo Bash
DESCRIPTION:Tennis Round Robin-Boo Bash
URL:https://gatewoodclub.com/event/humane-society-benefit/
CATEGORIES:Clubhouse,Community,Tennis
END:VEVENT
BEGIN:VEVENT
DTSTART;TZID=America/New_York:20211030T173000
DTEND;TZID=America/New_York:20211030T193000
DTSTAMP:20260420T122605
CREATED:20210930T200934Z
LAST-MODIFIED:20210930T201316Z
UID:1793-1635615000-1635622200@gatewoodclub.com
SUMMARY:Trunk or Treat!
DESCRIPTION:Family fun with treats\, games\, and prizes! First prize for best themed trunk is $50 off HOA Dues for November\, second prize $25 off!!! Check the Gatewood website soon for more information.
URL:https://gatewoodclub.com/event/trunk-or-treat/
CATEGORIES:Clubhouse,Community
END:VEVENT
END:VCALENDAR