BEGIN:VCALENDAR
VERSION:2.0
PRODID:-//Gatewood Club &amp; Community - ECPv6.15.18//NONSGML v1.0//EN
CALSCALE:GREGORIAN
METHOD:PUBLISH
X-ORIGINAL-URL:https://gatewoodclub.com
X-WR-CALDESC:Events for Gatewood Club &amp; Community
REFRESH-INTERVAL;VALUE=DURATION:PT1H
X-Robots-Tag:noindex
X-PUBLISHED-TTL:PT1H
BEGIN:VTIMEZONE
TZID:America/New_York
BEGIN:DAYLIGHT
TZOFFSETFROM:-0500
TZOFFSETTO:-0400
TZNAME:EDT
DTSTART:20200308T070000
END:DAYLIGHT
BEGIN:STANDARD
TZOFFSETFROM:-0400
TZOFFSETTO:-0500
TZNAME:EST
DTSTART:20201101T060000
END:STANDARD
BEGIN:DAYLIGHT
TZOFFSETFROM:-0500
TZOFFSETTO:-0400
TZNAME:EDT
DTSTART:20210314T070000
END:DAYLIGHT
BEGIN:STANDARD
TZOFFSETFROM:-0400
TZOFFSETTO:-0500
TZNAME:EST
DTSTART:20211107T060000
END:STANDARD
BEGIN:DAYLIGHT
TZOFFSETFROM:-0500
TZOFFSETTO:-0400
TZNAME:EDT
DTSTART:20220313T070000
END:DAYLIGHT
BEGIN:STANDARD
TZOFFSETFROM:-0400
TZOFFSETTO:-0500
TZNAME:EST
DTSTART:20221106T060000
END:STANDARD
END:VTIMEZONE
BEGIN:VEVENT
DTSTART;TZID=America/New_York:20210904T180000
DTEND;TZID=America/New_York:20210904T230000
DTSTAMP:20260420T135801
CREATED:20210830T142914Z
LAST-MODIFIED:20210830T160709Z
UID:1741-1630778400-1630796400@gatewoodclub.com
SUMMARY:College Football Kickoff Tailgate
DESCRIPTION:Calling all College Football Fans!!! Come and tailgate with us!  This is a FREE event!  All you need to do is BYOB and bring your favorite tailgate food to share!  AND wear your school colors of course!  If you have a tailgate tent\, you can set it up on the lawn next to the pool\, and if you have a cornhole set\, bring it!  No RSVP needed! Residents and their guests welcome!  The bar is now equipped with three TV’s-including two brand new 70” sets!  Come join the fun and cheer on your team!!!
URL:https://gatewoodclub.com/event/college-football-kickoff-tailgate/
CATEGORIES:Clubhouse,Community,Pool
ATTACH;FMTTYPE=image/png:https://gatewoodclub.com/wp-content/uploads/gatewood-football-tailgate.png
END:VEVENT
BEGIN:VEVENT
DTSTART;TZID=America/New_York:20210908T180000
DTEND;TZID=America/New_York:20210908T190000
DTSTAMP:20260420T135801
CREATED:20210830T170025Z
LAST-MODIFIED:20210830T190401Z
UID:1762-1631124000-1631127600@gatewoodclub.com
SUMMARY:Landscape Committee
DESCRIPTION:All are welcome to attend the next Landscaping Committee meeting on Wednesday\, September 8at 6:00 PM at the clubhouse. We’re looking for more committee members and are receptive to your feedback and input on any landscaping topics on the online survey at https://gatewoodclub.com/landscaping-committee- feedback/.
URL:https://gatewoodclub.com/event/landscape-committee/
CATEGORIES:Community
END:VEVENT
BEGIN:VEVENT
DTSTART;TZID=America/New_York:20210917T180000
DTEND;TZID=America/New_York:20210917T210000
DTSTAMP:20260420T135801
CREATED:20210830T180542Z
LAST-MODIFIED:20210830T180655Z
UID:1772-1631901600-1631912400@gatewoodclub.com
SUMMARY:Doubles Date Night
DESCRIPTION:This event is a mixed doubles social for pickleball and tennis. Ladies bring a covered dish or snack and men bring beer and wine. Call the pro shop to sign up with your significant other\, a friend or your mixed doubles partner. 884-223-1594
URL:https://gatewoodclub.com/event/doubles-date-night/
CATEGORIES:Tennis
END:VEVENT
BEGIN:VEVENT
DTSTART;TZID=America/New_York:20210920T180000
DTEND;TZID=America/New_York:20210920T200000
DTSTAMP:20260420T135801
CREATED:20210830T181723Z
LAST-MODIFIED:20210830T181724Z
UID:1775-1632160800-1632168000@gatewoodclub.com
SUMMARY:POA Board Meeting
DESCRIPTION:
URL:https://gatewoodclub.com/event/poa-board-meeting-3/
CATEGORIES:Community
END:VEVENT
BEGIN:VEVENT
DTSTART;TZID=America/New_York:20210927T100000
DTEND;TZID=America/New_York:20211001T140000
DTSTAMP:20260420T135801
CREATED:20210731T203840Z
LAST-MODIFIED:20210830T183346Z
UID:1690-1632736800-1633096800@gatewoodclub.com
SUMMARY:Gatewood Kids Camp
DESCRIPTION:Tennis: 10-11:45 Lunch: 12-1 Swimming: 1-2:00  \n\n\n\n$150 members $175 non-members
URL:https://gatewoodclub.com/event/gatewood-kids-camp-3/
CATEGORIES:Pool,Tennis
END:VEVENT
END:VCALENDAR