BEGIN:VCALENDAR
VERSION:2.0
PRODID:-//Gatewood Club &amp; Community - ECPv6.15.18//NONSGML v1.0//EN
CALSCALE:GREGORIAN
METHOD:PUBLISH
X-WR-CALNAME:Gatewood Club &amp; Community
X-ORIGINAL-URL:https://gatewoodclub.com
X-WR-CALDESC:Events for Gatewood Club &amp; Community
REFRESH-INTERVAL;VALUE=DURATION:PT1H
X-Robots-Tag:noindex
X-PUBLISHED-TTL:PT1H
BEGIN:VTIMEZONE
TZID:America/New_York
BEGIN:DAYLIGHT
TZOFFSETFROM:-0500
TZOFFSETTO:-0400
TZNAME:EDT
DTSTART:20200308T070000
END:DAYLIGHT
BEGIN:STANDARD
TZOFFSETFROM:-0400
TZOFFSETTO:-0500
TZNAME:EST
DTSTART:20201101T060000
END:STANDARD
BEGIN:DAYLIGHT
TZOFFSETFROM:-0500
TZOFFSETTO:-0400
TZNAME:EDT
DTSTART:20210314T070000
END:DAYLIGHT
BEGIN:STANDARD
TZOFFSETFROM:-0400
TZOFFSETTO:-0500
TZNAME:EST
DTSTART:20211107T060000
END:STANDARD
BEGIN:DAYLIGHT
TZOFFSETFROM:-0500
TZOFFSETTO:-0400
TZNAME:EDT
DTSTART:20220313T070000
END:DAYLIGHT
BEGIN:STANDARD
TZOFFSETFROM:-0400
TZOFFSETTO:-0500
TZNAME:EST
DTSTART:20221106T060000
END:STANDARD
END:VTIMEZONE
BEGIN:VEVENT
DTSTART;TZID=America/New_York:20210803T180000
DTEND;TZID=America/New_York:20210803T193000
DTSTAMP:20260420T154131
CREATED:20210731T205051Z
LAST-MODIFIED:20210731T205219Z
UID:1693-1628013600-1628019000@gatewoodclub.com
SUMMARY:Pickleball
DESCRIPTION:Free Pickleball lessons & play offered @ the Gatewood courts. Mon & Fri @ 8:30 am and Tues & Thur @ 6 pm.
URL:https://gatewoodclub.com/event/pickleball-8/
CATEGORIES:Other
END:VEVENT
BEGIN:VEVENT
DTSTART;TZID=America/New_York:20210809T173000
DTEND;TZID=America/New_York:20210809T183000
DTSTAMP:20260420T154131
CREATED:20210731T180519Z
LAST-MODIFIED:20210801T102028Z
UID:1647-1628530200-1628533800@gatewoodclub.com
SUMMARY:Landscaping Committee
DESCRIPTION:The Landscaping Committee is in need of your participation and expertise as we explore alternatives to addressing some of our challenges and potential improvements to our common areas. The next committee meeting will be Monday\, August 9 at 5:30 at the clubhouse. Please RSVP or stop by that evening; anyone is welcome to attend. If you have questions\, suggestions\, or specific feedback\, you can complete the online survey at https://gatewoodclub.com/landscaping-committee-feedback/.
URL:https://gatewoodclub.com/event/landscaping-committee/
CATEGORIES:Community
END:VEVENT
BEGIN:VEVENT
DTSTART;TZID=America/New_York:20210812T180000
DTEND;TZID=America/New_York:20210812T200000
DTSTAMP:20260420T154131
CREATED:20210731T195340Z
LAST-MODIFIED:20210801T102034Z
UID:1664-1628791200-1628798400@gatewoodclub.com
SUMMARY:Pickleball Palooza
DESCRIPTION:Mark your calendars for Thursday\, August 12 @ 6pm to attend a Pickleball Palooza complete with demos\, music\, food\, beer and wine and open play at the Gatewood racquet club. You’re also welcome to come and just watch. Rsvp to donna.hasting@gatewoodclub.com.
URL:https://gatewoodclub.com/event/pickleball-palooza/
CATEGORIES:Community,Tennis
END:VEVENT
BEGIN:VEVENT
DTSTART;TZID=America/New_York:20210823T180000
DTEND;TZID=America/New_York:20210823T193000
DTSTAMP:20260420T154131
CREATED:20210731T163520Z
LAST-MODIFIED:20210801T101758Z
UID:1629-1629741600-1629747000@gatewoodclub.com
SUMMARY:POA Board Meeting
DESCRIPTION:
URL:https://gatewoodclub.com/event/poa-board-meeting-2/
CATEGORIES:Community
END:VEVENT
BEGIN:VEVENT
DTSTART;TZID=America/New_York:20210826T173000
DTEND;TZID=America/New_York:20210826T190000
DTSTAMP:20260420T154131
CREATED:20210731T164241Z
LAST-MODIFIED:20210830T155845Z
UID:1632-1629999000-1630004400@gatewoodclub.com
SUMMARY:Wine & Cheese Tasting
DESCRIPTION:We are pleased to announce that we will have Annemarie Humm\, CSW\, with us to introduce different wines and recommend cheeses to pair them with. Annemarie is the regional Vice President of the American Wine Society and owns the Vines to Wine Academy in Waterloo. \n\n\n\nRSVP a must! Deadline: Monday\, August 23. Prepayment also by this time. May be charged to your account. This was our top vote getter in the survey done at the Meet and Greet in June. Hope to see you there! \n\n\n\nTime: 5:30-7:00 Clubhouse/Downstairs$20.00 per person or $30.00 per couple \n\n\n\n\n\n\n\n\n\n\n\n\n\n\n\n\n\nResidents enjoyed a great time at the recent wine and cheese tasting at the clubhouse – thanks to Annemarie Humm for leading us through the tasting of fabulous wines and cheeses!
URL:https://gatewoodclub.com/event/wine-cheese-tasting/
CATEGORIES:Clubhouse,Community
ATTACH;FMTTYPE=image/jpeg:https://gatewoodclub.com/wp-content/uploads/gw_wc_2-rotated.jpg
END:VEVENT
END:VCALENDAR