BEGIN:VCALENDAR
VERSION:2.0
PRODID:-//Gatewood Club &amp; Community - ECPv6.15.18//NONSGML v1.0//EN
CALSCALE:GREGORIAN
METHOD:PUBLISH
X-WR-CALNAME:Gatewood Club &amp; Community
X-ORIGINAL-URL:https://gatewoodclub.com
X-WR-CALDESC:Events for Gatewood Club &amp; Community
REFRESH-INTERVAL;VALUE=DURATION:PT1H
X-Robots-Tag:noindex
X-PUBLISHED-TTL:PT1H
BEGIN:VTIMEZONE
TZID:America/New_York
BEGIN:DAYLIGHT
TZOFFSETFROM:-0500
TZOFFSETTO:-0400
TZNAME:EDT
DTSTART:20200308T070000
END:DAYLIGHT
BEGIN:STANDARD
TZOFFSETFROM:-0400
TZOFFSETTO:-0500
TZNAME:EST
DTSTART:20201101T060000
END:STANDARD
BEGIN:DAYLIGHT
TZOFFSETFROM:-0500
TZOFFSETTO:-0400
TZNAME:EDT
DTSTART:20210314T070000
END:DAYLIGHT
BEGIN:STANDARD
TZOFFSETFROM:-0400
TZOFFSETTO:-0500
TZNAME:EST
DTSTART:20211107T060000
END:STANDARD
BEGIN:DAYLIGHT
TZOFFSETFROM:-0500
TZOFFSETTO:-0400
TZNAME:EDT
DTSTART:20220313T070000
END:DAYLIGHT
BEGIN:STANDARD
TZOFFSETFROM:-0400
TZOFFSETTO:-0500
TZNAME:EST
DTSTART:20221106T060000
END:STANDARD
END:VTIMEZONE
BEGIN:VEVENT
DTSTART;TZID=America/New_York:20210712T100000
DTEND;TZID=America/New_York:20210716T150000
DTSTAMP:20260420T171334
CREATED:20210501T173258Z
LAST-MODIFIED:20210801T101837Z
UID:1425-1626084000-1626447600@gatewoodclub.com
SUMMARY:Gatewood Kids Camp
DESCRIPTION:Tennis: 10-11:45 Lunch: 12-1 Swimming: 1-2:40  \n\n\n\n$200 members $225 non-members
URL:https://gatewoodclub.com/event/gatewood-kids-camp-2/
CATEGORIES:Pool,Tennis
END:VEVENT
BEGIN:VEVENT
DTSTART;TZID=America/New_York:20210713T180000
DTEND;TZID=America/New_York:20210713T193000
DTSTAMP:20260420T171334
CREATED:20210713T210650Z
LAST-MODIFIED:20210713T210650Z
UID:1587-1626199200-1626204600@gatewoodclub.com
SUMMARY:Pickleball
DESCRIPTION:For more information\, please see the news item post at https://gatewoodclub.com/news/coming-soon-to-gatewood-pickleball/
URL:https://gatewoodclub.com/event/pickleball-2/
CATEGORIES:Other
END:VEVENT
BEGIN:VEVENT
DTSTART;TZID=America/New_York:20210715T180000
DTEND;TZID=America/New_York:20210715T193000
DTSTAMP:20260420T171334
CREATED:20210713T210746Z
LAST-MODIFIED:20210713T210747Z
UID:1589-1626372000-1626377400@gatewoodclub.com
SUMMARY:Pickleball
DESCRIPTION:For more information\, please see the news item post at https://gatewoodclub.com/news/coming-soon-to-gatewood-pickleball/
URL:https://gatewoodclub.com/event/pickleball-3/
CATEGORIES:Other
END:VEVENT
BEGIN:VEVENT
DTSTART;TZID=America/New_York:20210716T090000
DTEND;TZID=America/New_York:20210716T103000
DTSTAMP:20260420T171334
CREATED:20210713T210513Z
LAST-MODIFIED:20210713T210514Z
UID:1585-1626426000-1626431400@gatewoodclub.com
SUMMARY:Pickleball
DESCRIPTION:For more information\, please see the news item post at https://gatewoodclub.com/news/coming-soon-to-gatewood-pickleball/
URL:https://gatewoodclub.com/event/pickleball/
CATEGORIES:Other
END:VEVENT
BEGIN:VEVENT
DTSTART;TZID=America/New_York:20210719T090000
DTEND;TZID=America/New_York:20210719T103000
DTSTAMP:20260420T171334
CREATED:20210713T210837Z
LAST-MODIFIED:20210713T210838Z
UID:1591-1626685200-1626690600@gatewoodclub.com
SUMMARY:Pickleball
DESCRIPTION:For more information\, please see the news item post at https://gatewoodclub.com/news/coming-soon-to-gatewood-pickleball/
URL:https://gatewoodclub.com/event/pickleball-4/
CATEGORIES:Other
END:VEVENT
BEGIN:VEVENT
DTSTART;TZID=America/New_York:20210719T173000
DTEND;TZID=America/New_York:20210719T183000
DTSTAMP:20260420T171334
CREATED:20210629T130656Z
LAST-MODIFIED:20210801T102050Z
UID:1568-1626715800-1626719400@gatewoodclub.com
SUMMARY:Landscaping Committee Meeting
DESCRIPTION:The Landscaping Committee is in need of some volunteer committee members\, as there is much work and consultation to be done to keep our neighborhood beautiful and well-maintained. Other than focusing on needed maintenance\, costs\, and repairs\, our committee is also looking to provide social gardening opportunities\, informational talks\, or possibly reinstate a Yard of the Month program. If interested in serving\, or if you have any questions or suggestions\, please contact the Chair or complete the online survey at https://gatewoodclub.com/landscaping-committee-feedback/. Our next meeting will be Monday\, July 19 at 5:30 at the clubhouse. Please RSVP or stop by that evening; all are welcome to attend!
URL:https://gatewoodclub.com/event/landscaping-committee-meeting/
CATEGORIES:Community
END:VEVENT
BEGIN:VEVENT
DTSTART;TZID=America/New_York:20210720T180000
DTEND;TZID=America/New_York:20210720T193000
DTSTAMP:20260420T171334
CREATED:20210713T211129Z
LAST-MODIFIED:20210713T211129Z
UID:1595-1626804000-1626809400@gatewoodclub.com
SUMMARY:Pickleball
DESCRIPTION:
URL:https://gatewoodclub.com/event/pickleball-6/
CATEGORIES:Other
END:VEVENT
BEGIN:VEVENT
DTSTART;TZID=America/New_York:20210723T090000
DTEND;TZID=America/New_York:20210723T103000
DTSTAMP:20260420T171334
CREATED:20210713T210944Z
LAST-MODIFIED:20210713T210945Z
UID:1593-1627030800-1627036200@gatewoodclub.com
SUMMARY:Pickleball
DESCRIPTION:For more information\, please see the news item post at https://gatewoodclub.com/news/coming-soon-to-gatewood-pickleball/
URL:https://gatewoodclub.com/event/pickleball-5/
CATEGORIES:Other
END:VEVENT
BEGIN:VEVENT
DTSTART;TZID=America/New_York:20210725T150000
DTEND;TZID=America/New_York:20210725T163000
DTSTAMP:20260420T171334
CREATED:20210713T205451Z
LAST-MODIFIED:20210801T103913Z
UID:1581-1627225200-1627230600@gatewoodclub.com
SUMMARY:Ice Cream Social
DESCRIPTION:Residents of All Ages Welcome! $2.00 per person/ cash only on site. RSVP to Donna Hasting via phone or email by Friday\, July 23rd. This was our top “vote winner” in the “Family/Children Activities” category on the survey done at the Meet and Greet event in June\, so we hope to see a lot of you there!  In addition\, there will be a Pickleball demonstration at the tennis courts beginning at 4PM. Come learn about Pickleball and maybe even give it a try!!!
URL:https://gatewoodclub.com/event/ice-cream-social/
CATEGORIES:Clubhouse,Community,Pool
END:VEVENT
BEGIN:VEVENT
DTSTART;TZID=America/New_York:20210726T090000
DTEND;TZID=America/New_York:20210726T103000
DTSTAMP:20260420T171334
CREATED:20210713T212115Z
LAST-MODIFIED:20210713T212115Z
UID:1597-1627290000-1627295400@gatewoodclub.com
SUMMARY:Pickleball
DESCRIPTION:For more information\, please see the news item post at https://gatewoodclub.com/news/coming-soon-to-gatewood-pickleball/
URL:https://gatewoodclub.com/event/pickleball-7/
END:VEVENT
BEGIN:VEVENT
DTSTART;TZID=America/New_York:20210726T180000
DTEND;TZID=America/New_York:20210726T193000
DTSTAMP:20260420T171334
CREATED:20210628T171458Z
LAST-MODIFIED:20210801T101823Z
UID:1566-1627322400-1627327800@gatewoodclub.com
SUMMARY:POA Board Meeting
DESCRIPTION:
URL:https://gatewoodclub.com/event/poa-board-meeting/
CATEGORIES:Community
END:VEVENT
END:VCALENDAR