BEGIN:VCALENDAR
VERSION:2.0
PRODID:-//Gatewood Club &amp; Community - ECPv6.15.18//NONSGML v1.0//EN
CALSCALE:GREGORIAN
METHOD:PUBLISH
X-WR-CALNAME:Gatewood Club &amp; Community
X-ORIGINAL-URL:https://gatewoodclub.com
X-WR-CALDESC:Events for Gatewood Club &amp; Community
REFRESH-INTERVAL;VALUE=DURATION:PT1H
X-Robots-Tag:noindex
X-PUBLISHED-TTL:PT1H
BEGIN:VTIMEZONE
TZID:America/New_York
BEGIN:DAYLIGHT
TZOFFSETFROM:-0500
TZOFFSETTO:-0400
TZNAME:EDT
DTSTART:20160313T070000
END:DAYLIGHT
BEGIN:STANDARD
TZOFFSETFROM:-0400
TZOFFSETTO:-0500
TZNAME:EST
DTSTART:20161106T060000
END:STANDARD
BEGIN:DAYLIGHT
TZOFFSETFROM:-0500
TZOFFSETTO:-0400
TZNAME:EDT
DTSTART:20170312T070000
END:DAYLIGHT
BEGIN:STANDARD
TZOFFSETFROM:-0400
TZOFFSETTO:-0500
TZNAME:EST
DTSTART:20171105T060000
END:STANDARD
BEGIN:DAYLIGHT
TZOFFSETFROM:-0500
TZOFFSETTO:-0400
TZNAME:EDT
DTSTART:20180311T070000
END:DAYLIGHT
BEGIN:STANDARD
TZOFFSETFROM:-0400
TZOFFSETTO:-0500
TZNAME:EST
DTSTART:20181104T060000
END:STANDARD
END:VTIMEZONE
BEGIN:VEVENT
DTSTART;VALUE=DATE:20170904
DTEND;VALUE=DATE:20170905
DTSTAMP:20260423T194342
CREATED:20170518T141305Z
LAST-MODIFIED:20170518T141305Z
UID:495-1504483200-1504569599@gatewoodclub.com
SUMMARY:Labor Day ~ Clubhouse Office Closed
DESCRIPTION:
URL:https://gatewoodclub.com/event/labor-day-clubhouse-office-closed/
END:VEVENT
BEGIN:VEVENT
DTSTART;TZID=America/New_York:20170916T180000
DTEND;TZID=America/New_York:20170916T220000
DTSTAMP:20260423T194342
CREATED:20170526T150143Z
LAST-MODIFIED:20170526T150143Z
UID:526-1505584800-1505599200@gatewoodclub.com
SUMMARY:Booked Function
DESCRIPTION:
URL:https://gatewoodclub.com/event/booked-function-9/
END:VEVENT
BEGIN:VEVENT
DTSTART;TZID=America/New_York:20170916T180000
DTEND;TZID=America/New_York:20170916T233000
DTSTAMP:20260423T194342
CREATED:20170526T145305Z
LAST-MODIFIED:20170526T145305Z
UID:523-1505584800-1505604600@gatewoodclub.com
SUMMARY:Pool Closes at 6pm
DESCRIPTION:
URL:https://gatewoodclub.com/event/pool-closes-6pm-2/
END:VEVENT
BEGIN:VEVENT
DTSTART;TZID=America/New_York:20170925T190000
DTEND;TZID=America/New_York:20170925T210000
DTSTAMP:20260423T194342
CREATED:20170518T141504Z
LAST-MODIFIED:20170518T141504Z
UID:499-1506366000-1506373200@gatewoodclub.com
SUMMARY:Board Meeting
DESCRIPTION:
URL:https://gatewoodclub.com/event/board-meeting-12/
END:VEVENT
END:VCALENDAR