BEGIN:VCALENDAR
VERSION:2.0
PRODID:-//Gatewood Club &amp; Community - ECPv6.15.18//NONSGML v1.0//EN
CALSCALE:GREGORIAN
METHOD:PUBLISH
X-WR-CALNAME:Gatewood Club &amp; Community
X-ORIGINAL-URL:https://gatewoodclub.com
X-WR-CALDESC:Events for Gatewood Club &amp; Community
REFRESH-INTERVAL;VALUE=DURATION:PT1H
X-Robots-Tag:noindex
X-PUBLISHED-TTL:PT1H
BEGIN:VTIMEZONE
TZID:America/New_York
BEGIN:DAYLIGHT
TZOFFSETFROM:-0500
TZOFFSETTO:-0400
TZNAME:EDT
DTSTART:20160313T070000
END:DAYLIGHT
BEGIN:STANDARD
TZOFFSETFROM:-0400
TZOFFSETTO:-0500
TZNAME:EST
DTSTART:20161106T060000
END:STANDARD
BEGIN:DAYLIGHT
TZOFFSETFROM:-0500
TZOFFSETTO:-0400
TZNAME:EDT
DTSTART:20170312T070000
END:DAYLIGHT
BEGIN:STANDARD
TZOFFSETFROM:-0400
TZOFFSETTO:-0500
TZNAME:EST
DTSTART:20171105T060000
END:STANDARD
BEGIN:DAYLIGHT
TZOFFSETFROM:-0500
TZOFFSETTO:-0400
TZNAME:EDT
DTSTART:20180311T070000
END:DAYLIGHT
BEGIN:STANDARD
TZOFFSETFROM:-0400
TZOFFSETTO:-0500
TZNAME:EST
DTSTART:20181104T060000
END:STANDARD
END:VTIMEZONE
BEGIN:VEVENT
DTSTART;TZID=America/New_York:20170502T180000
DTEND;TZID=America/New_York:20170502T200000
DTSTAMP:20260424T013016
CREATED:20170504T160925Z
LAST-MODIFIED:20170504T160925Z
UID:396-1493748000-1493755200@gatewoodclub.com
SUMMARY:Booked Function
DESCRIPTION:
URL:https://gatewoodclub.com/event/booked-function-7/
END:VEVENT
BEGIN:VEVENT
DTSTART;TZID=America/New_York:20170519T123000
DTEND;TZID=America/New_York:20170519T143000
DTSTAMP:20260424T013016
CREATED:20170518T135906Z
LAST-MODIFIED:20170518T135906Z
UID:489-1495197000-1495204200@gatewoodclub.com
SUMMARY:Pool Party
DESCRIPTION:
URL:https://gatewoodclub.com/event/pool-party-7/
END:VEVENT
BEGIN:VEVENT
DTSTART;TZID=America/New_York:20170519T180000
DTEND;TZID=America/New_York:20170519T200000
DTSTAMP:20260424T013016
CREATED:20170504T161142Z
LAST-MODIFIED:20170504T163816Z
UID:402-1495216800-1495224000@gatewoodclub.com
SUMMARY:Pool Party
DESCRIPTION:
URL:https://gatewoodclub.com/event/pool-party-2/
END:VEVENT
BEGIN:VEVENT
DTSTART;TZID=America/New_York:20170520T180000
DTEND;TZID=America/New_York:20170520T233000
DTSTAMP:20260424T013016
CREATED:20170516T132724Z
LAST-MODIFIED:20170516T132834Z
UID:485-1495303200-1495323000@gatewoodclub.com
SUMMARY:Pool Closes at 6pm
DESCRIPTION:
URL:https://gatewoodclub.com/event/pool-closes-6pm/
END:VEVENT
BEGIN:VEVENT
DTSTART;TZID=America/New_York:20170520T190000
DTEND;TZID=America/New_York:20170520T230000
DTSTAMP:20260424T013016
CREATED:20170504T162121Z
LAST-MODIFIED:20170510T183532Z
UID:405-1495306800-1495321200@gatewoodclub.com
SUMMARY:Booked Function
DESCRIPTION:
URL:https://gatewoodclub.com/event/booked-function-8/
END:VEVENT
BEGIN:VEVENT
DTSTART;TZID=America/New_York:20170522T190000
DTEND;TZID=America/New_York:20170522T210000
DTSTAMP:20260424T013016
CREATED:20170504T163441Z
LAST-MODIFIED:20170504T163441Z
UID:408-1495479600-1495486800@gatewoodclub.com
SUMMARY:Board Meeting
DESCRIPTION:
URL:https://gatewoodclub.com/event/board-meeting-8/
END:VEVENT
BEGIN:VEVENT
DTSTART;TZID=America/New_York:20170526T170000
DTEND;TZID=America/New_York:20170526T200000
DTSTAMP:20260424T013016
CREATED:20170504T163547Z
LAST-MODIFIED:20170504T163547Z
UID:412-1495818000-1495828800@gatewoodclub.com
SUMMARY:Pool Party
DESCRIPTION:
URL:https://gatewoodclub.com/event/pool-party-3/
END:VEVENT
BEGIN:VEVENT
DTSTART;TZID=America/New_York:20170529T080000
DTEND;TZID=America/New_York:20170529T170000
DTSTAMP:20260424T013016
CREATED:20170504T164014Z
LAST-MODIFIED:20170504T164014Z
UID:416-1496044800-1496077200@gatewoodclub.com
SUMMARY:Memorial Day ~ Clubhouse Office Closed
DESCRIPTION:
URL:https://gatewoodclub.com/event/memorial-day-clubhouse-office-closed/
END:VEVENT
BEGIN:VEVENT
DTSTART;TZID=America/New_York:20170530T190000
DTEND;TZID=America/New_York:20170530T210000
DTSTAMP:20260424T013016
CREATED:20170505T145450Z
LAST-MODIFIED:20170505T145450Z
UID:424-1496170800-1496178000@gatewoodclub.com
SUMMARY:Pool Party
DESCRIPTION:
URL:https://gatewoodclub.com/event/pool-party-4/
END:VEVENT
BEGIN:VEVENT
DTSTART;TZID=America/New_York:20170531T153000
DTEND;TZID=America/New_York:20170531T173000
DTSTAMP:20260424T013016
CREATED:20170518T140619Z
LAST-MODIFIED:20170518T140619Z
UID:492-1496244600-1496251800@gatewoodclub.com
SUMMARY:Pool Party
DESCRIPTION:
URL:https://gatewoodclub.com/event/pool-party-8/
END:VEVENT
BEGIN:VEVENT
DTSTART;TZID=America/New_York:20170531T190000
DTEND;TZID=America/New_York:20170531T220000
DTSTAMP:20260424T013016
CREATED:20170505T145822Z
LAST-MODIFIED:20170505T145822Z
UID:427-1496257200-1496268000@gatewoodclub.com
SUMMARY:Pool Party
DESCRIPTION:
URL:https://gatewoodclub.com/event/pool-party-5/
END:VEVENT
END:VCALENDAR