BEGIN:VCALENDAR
VERSION:2.0
PRODID:-//Gatewood Club &amp; Community - ECPv6.15.18//NONSGML v1.0//EN
CALSCALE:GREGORIAN
METHOD:PUBLISH
X-WR-CALNAME:Gatewood Club &amp; Community
X-ORIGINAL-URL:https://gatewoodclub.com
X-WR-CALDESC:Events for Gatewood Club &amp; Community
REFRESH-INTERVAL;VALUE=DURATION:PT1H
X-Robots-Tag:noindex
X-PUBLISHED-TTL:PT1H
BEGIN:VTIMEZONE
TZID:America/New_York
BEGIN:DAYLIGHT
TZOFFSETFROM:-0500
TZOFFSETTO:-0400
TZNAME:EDT
DTSTART:20210314T070000
END:DAYLIGHT
BEGIN:STANDARD
TZOFFSETFROM:-0400
TZOFFSETTO:-0500
TZNAME:EST
DTSTART:20211107T060000
END:STANDARD
BEGIN:DAYLIGHT
TZOFFSETFROM:-0500
TZOFFSETTO:-0400
TZNAME:EDT
DTSTART:20220313T070000
END:DAYLIGHT
BEGIN:STANDARD
TZOFFSETFROM:-0400
TZOFFSETTO:-0500
TZNAME:EST
DTSTART:20221106T060000
END:STANDARD
BEGIN:DAYLIGHT
TZOFFSETFROM:-0500
TZOFFSETTO:-0400
TZNAME:EDT
DTSTART:20230312T070000
END:DAYLIGHT
BEGIN:STANDARD
TZOFFSETFROM:-0400
TZOFFSETTO:-0500
TZNAME:EST
DTSTART:20231105T060000
END:STANDARD
END:VTIMEZONE
BEGIN:VEVENT
DTSTART;TZID=America/New_York:20221128T180000
DTEND;TZID=America/New_York:20221128T200000
DTSTAMP:20260419T142901
CREATED:20221102T183354Z
LAST-MODIFIED:20221102T183738Z
UID:2262-1669658400-1669665600@gatewoodclub.com
SUMMARY:Craft Class: Christmas Wreath and Mailbox Swag Making
DESCRIPTION:Back by popular demand! This event was a great success last year and we are fortunate that the same person who led it last year will do so this year! You can make either a wreath or a swag\, OR you can make two items: 1 wreath/1 swag\, or 2 wreaths. The cost includes everything needed- all greenery\, wreath form\, swag form (does not include bows if you should want one). You can bring things from your own yard to add to what will be provided if you choose. Cost is $55 for one item\, $100 for two. DEADLINE to register: MONDAY\, NOV. 21. This is also the DEADLINE to CANCEL for a refund.
URL:https://gatewoodclub.com/event/christmas-wreath-and-mailbox-swag-making/
CATEGORIES:Clubhouse,Community
END:VEVENT
END:VCALENDAR