BEGIN:VCALENDAR
VERSION:2.0
PRODID:-//Gatewood Club &amp; Community - ECPv6.15.18//NONSGML v1.0//EN
CALSCALE:GREGORIAN
METHOD:PUBLISH
X-WR-CALNAME:Gatewood Club &amp; Community
X-ORIGINAL-URL:https://gatewoodclub.com
X-WR-CALDESC:Events for Gatewood Club &amp; Community
REFRESH-INTERVAL;VALUE=DURATION:PT1H
X-Robots-Tag:noindex
X-PUBLISHED-TTL:PT1H
BEGIN:VTIMEZONE
TZID:America/New_York
BEGIN:DAYLIGHT
TZOFFSETFROM:-0500
TZOFFSETTO:-0400
TZNAME:EDT
DTSTART:20210314T070000
END:DAYLIGHT
BEGIN:STANDARD
TZOFFSETFROM:-0400
TZOFFSETTO:-0500
TZNAME:EST
DTSTART:20211107T060000
END:STANDARD
BEGIN:DAYLIGHT
TZOFFSETFROM:-0500
TZOFFSETTO:-0400
TZNAME:EDT
DTSTART:20220313T070000
END:DAYLIGHT
BEGIN:STANDARD
TZOFFSETFROM:-0400
TZOFFSETTO:-0500
TZNAME:EST
DTSTART:20221106T060000
END:STANDARD
BEGIN:DAYLIGHT
TZOFFSETFROM:-0500
TZOFFSETTO:-0400
TZNAME:EDT
DTSTART:20230312T070000
END:DAYLIGHT
BEGIN:STANDARD
TZOFFSETFROM:-0400
TZOFFSETTO:-0500
TZNAME:EST
DTSTART:20231105T060000
END:STANDARD
END:VTIMEZONE
BEGIN:VEVENT
DTSTART;TZID=America/New_York:20221023T160000
DTEND;TZID=America/New_York:20221023T183000
DTSTAMP:20260419T174639
CREATED:20220930T205011Z
LAST-MODIFIED:20220930T205012Z
UID:2241-1666540800-1666549800@gatewoodclub.com
SUMMARY:Trunk or Treat
DESCRIPTION:*Pumpkin Carving/ Blackwood’s BBQ Food Truck / Halloween Movie* \n\n\n\nOctober 23rd 4-6:30 pm \n\n\n\nFUN FOR ALL \n\n\n\n• October Craft: Pumpkin carving is $8 per pumpkin. Please contact Donna to reserve your pumpkin or pumpkins by 10/16 *Prize for best-voted pumpkin* \n\n\n\n• Please contact Charlene McDonnell at 413-347-3268 (call or text) if are interested in decorating your trunk for our Gatewood “Ghost and Goblins” aka children. best-voted trunk* \n\n\n\n• Halloween Movie title TBD \n\n\n\n• Spooky Adult drink will be available for purchase \n\n\n\n• This event is for residents and members\, guest rules apply.
URL:https://gatewoodclub.com/event/trunk-or-treat-2/
CATEGORIES:Clubhouse
END:VEVENT
END:VCALENDAR