BEGIN:VCALENDAR
VERSION:2.0
PRODID:-//Gatewood Club &amp; Community - ECPv6.15.18//NONSGML v1.0//EN
CALSCALE:GREGORIAN
METHOD:PUBLISH
X-ORIGINAL-URL:https://gatewoodclub.com
X-WR-CALDESC:Events for Gatewood Club &amp; Community
REFRESH-INTERVAL;VALUE=DURATION:PT1H
X-Robots-Tag:noindex
X-PUBLISHED-TTL:PT1H
BEGIN:VTIMEZONE
TZID:America/New_York
BEGIN:DAYLIGHT
TZOFFSETFROM:-0500
TZOFFSETTO:-0400
TZNAME:EDT
DTSTART:20210314T070000
END:DAYLIGHT
BEGIN:STANDARD
TZOFFSETFROM:-0400
TZOFFSETTO:-0500
TZNAME:EST
DTSTART:20211107T060000
END:STANDARD
BEGIN:DAYLIGHT
TZOFFSETFROM:-0500
TZOFFSETTO:-0400
TZNAME:EDT
DTSTART:20220313T070000
END:DAYLIGHT
BEGIN:STANDARD
TZOFFSETFROM:-0400
TZOFFSETTO:-0500
TZNAME:EST
DTSTART:20221106T060000
END:STANDARD
BEGIN:DAYLIGHT
TZOFFSETFROM:-0500
TZOFFSETTO:-0400
TZNAME:EDT
DTSTART:20230312T070000
END:DAYLIGHT
BEGIN:STANDARD
TZOFFSETFROM:-0400
TZOFFSETTO:-0500
TZNAME:EST
DTSTART:20231105T060000
END:STANDARD
END:VTIMEZONE
BEGIN:VEVENT
DTSTART;TZID=America/New_York:20221016T100000
DTEND;TZID=America/New_York:20221016T130000
DTSTAMP:20260419T175047
CREATED:20220904T164100Z
LAST-MODIFIED:20220930T204656Z
UID:2213-1665914400-1665925200@gatewoodclub.com
SUMMARY:Boo Bash Combo Round Robin
DESCRIPTION:In Memory of Ted Vaughn \n\n\n\nWhen: Sunday\, October 16th Time: 2pm-5pm \n\n\n\nWhere: Gatewood & Country Club Tennis Courts 5pm – Food & Drinks at Gatewood Tennis Courts \n\n\n\nRegister with a partner by calling or via email Gatewood: 864-223-1594 or paul.hamilton@gatewoodclub.com \n\n\n\nCountry Club: 864-942-8864 or gcctennis@greenwoodcountryclub.com \n\n\n\nDeadline to sign up – Monday\, October 10th Men’s: 6.5\, 7.5\, 8.5 Combo \n\n\n\nLadies: 6.5\, 7.5 Combo \n\n\n\nPlease bring a covered dish and a donation for the animal shelter to this event. \n\n\n\nSponsored by GATA & CTA
URL:https://gatewoodclub.com/event/boo-bash-combo-round-robin/
CATEGORIES:Tennis
END:VEVENT
END:VCALENDAR