BEGIN:VCALENDAR
VERSION:2.0
PRODID:-//Gatewood Club &amp; Community - ECPv6.15.18//NONSGML v1.0//EN
CALSCALE:GREGORIAN
METHOD:PUBLISH
X-WR-CALNAME:Gatewood Club &amp; Community
X-ORIGINAL-URL:https://gatewoodclub.com
X-WR-CALDESC:Events for Gatewood Club &amp; Community
REFRESH-INTERVAL;VALUE=DURATION:PT1H
X-Robots-Tag:noindex
X-PUBLISHED-TTL:PT1H
BEGIN:VTIMEZONE
TZID:America/New_York
BEGIN:DAYLIGHT
TZOFFSETFROM:-0500
TZOFFSETTO:-0400
TZNAME:EDT
DTSTART:20210314T070000
END:DAYLIGHT
BEGIN:STANDARD
TZOFFSETFROM:-0400
TZOFFSETTO:-0500
TZNAME:EST
DTSTART:20211107T060000
END:STANDARD
BEGIN:DAYLIGHT
TZOFFSETFROM:-0500
TZOFFSETTO:-0400
TZNAME:EDT
DTSTART:20220313T070000
END:DAYLIGHT
BEGIN:STANDARD
TZOFFSETFROM:-0400
TZOFFSETTO:-0500
TZNAME:EST
DTSTART:20221106T060000
END:STANDARD
BEGIN:DAYLIGHT
TZOFFSETFROM:-0500
TZOFFSETTO:-0400
TZNAME:EDT
DTSTART:20230312T070000
END:DAYLIGHT
BEGIN:STANDARD
TZOFFSETFROM:-0400
TZOFFSETTO:-0500
TZNAME:EST
DTSTART:20231105T060000
END:STANDARD
END:VTIMEZONE
BEGIN:VEVENT
DTSTART;TZID=America/New_York:20220809T130000
DTEND;TZID=America/New_York:20220809T140000
DTSTAMP:20260419T205911
CREATED:20220803T185646Z
LAST-MODIFIED:20220803T185647Z
UID:2197-1660050000-1660053600@gatewoodclub.com
SUMMARY:ASL (American Sign Language) Class
DESCRIPTION:Monthly 2nd Tuesday \n\n\n\nTuesday\, August 9th at 5 pm in the Sunroom upstairs of the Clubhouse.
URL:https://gatewoodclub.com/event/asl-american-sign-language-class/
CATEGORIES:Clubhouse,Community
END:VEVENT
END:VCALENDAR