BEGIN:VCALENDAR
VERSION:2.0
PRODID:-//Gatewood Club &amp; Community - ECPv6.15.18//NONSGML v1.0//EN
CALSCALE:GREGORIAN
METHOD:PUBLISH
X-WR-CALNAME:Gatewood Club &amp; Community
X-ORIGINAL-URL:https://gatewoodclub.com
X-WR-CALDESC:Events for Gatewood Club &amp; Community
REFRESH-INTERVAL;VALUE=DURATION:PT1H
X-Robots-Tag:noindex
X-PUBLISHED-TTL:PT1H
BEGIN:VTIMEZONE
TZID:America/New_York
BEGIN:DAYLIGHT
TZOFFSETFROM:-0500
TZOFFSETTO:-0400
TZNAME:EDT
DTSTART:20210314T070000
END:DAYLIGHT
BEGIN:STANDARD
TZOFFSETFROM:-0400
TZOFFSETTO:-0500
TZNAME:EST
DTSTART:20211107T060000
END:STANDARD
BEGIN:DAYLIGHT
TZOFFSETFROM:-0500
TZOFFSETTO:-0400
TZNAME:EDT
DTSTART:20220313T070000
END:DAYLIGHT
BEGIN:STANDARD
TZOFFSETFROM:-0400
TZOFFSETTO:-0500
TZNAME:EST
DTSTART:20221106T060000
END:STANDARD
BEGIN:DAYLIGHT
TZOFFSETFROM:-0500
TZOFFSETTO:-0400
TZNAME:EDT
DTSTART:20230312T070000
END:DAYLIGHT
BEGIN:STANDARD
TZOFFSETFROM:-0400
TZOFFSETTO:-0500
TZNAME:EST
DTSTART:20231105T060000
END:STANDARD
END:VTIMEZONE
BEGIN:VEVENT
DTSTART;TZID=America/New_York:20220218T120000
DTEND;TZID=America/New_York:20220219T170000
DTSTAMP:20260420T070804
CREATED:20220201T184127Z
LAST-MODIFIED:20220203T195133Z
UID:1952-1645185600-1645290000@gatewoodclub.com
SUMMARY:Pickleball - Instructional Camp
DESCRIPTION:Gatewood is fortunate to host a 2 day instructional camp for residents and others in our community led by Sarah Ansboury\, a gold medalist in both women’s and mixed doubles at the USAPA National Championships and the US Open. She is the current Director of Pickleball at Palmetto Dunes and a competitive\, touring pro. Residents/members (age 16+) who register by Feb. 4 will have priority on one of 12-16 available spots per session. There will be beginner and intermediate sessions each day\, a 2 ½ hr session for $95 and a 4 hr session for $145\, a significant reduction from obtaining similar quality instruction elsewhere. You may sign up for multiple sessions. Camp dates are Friday and Saturday\, February 18 and 19. The camp is for you if you want to take your game to the next level or to simply learn to avoid injuries while playing. Contact Linda Naylor at iDink\, Linda@naylorpickleball.com\, to sign up or for more information.
URL:https://gatewoodclub.com/event/pickleball-instructional-camp/
CATEGORIES:Community,Tennis
END:VEVENT
END:VCALENDAR