BEGIN:VCALENDAR
VERSION:2.0
PRODID:-//Gatewood Club &amp; Community - ECPv6.15.18//NONSGML v1.0//EN
CALSCALE:GREGORIAN
METHOD:PUBLISH
X-ORIGINAL-URL:https://gatewoodclub.com
X-WR-CALDESC:Events for Gatewood Club &amp; Community
REFRESH-INTERVAL;VALUE=DURATION:PT1H
X-Robots-Tag:noindex
X-PUBLISHED-TTL:PT1H
BEGIN:VTIMEZONE
TZID:America/New_York
BEGIN:DAYLIGHT
TZOFFSETFROM:-0500
TZOFFSETTO:-0400
TZNAME:EDT
DTSTART:20210314T070000
END:DAYLIGHT
BEGIN:STANDARD
TZOFFSETFROM:-0400
TZOFFSETTO:-0500
TZNAME:EST
DTSTART:20211107T060000
END:STANDARD
BEGIN:DAYLIGHT
TZOFFSETFROM:-0500
TZOFFSETTO:-0400
TZNAME:EDT
DTSTART:20220313T070000
END:DAYLIGHT
BEGIN:STANDARD
TZOFFSETFROM:-0400
TZOFFSETTO:-0500
TZNAME:EST
DTSTART:20221106T060000
END:STANDARD
BEGIN:DAYLIGHT
TZOFFSETFROM:-0500
TZOFFSETTO:-0400
TZNAME:EDT
DTSTART:20230312T070000
END:DAYLIGHT
BEGIN:STANDARD
TZOFFSETFROM:-0400
TZOFFSETTO:-0500
TZNAME:EST
DTSTART:20231105T060000
END:STANDARD
END:VTIMEZONE
BEGIN:VEVENT
DTSTART;TZID=America/New_York:20220211T170000
DTEND;TZID=America/New_York:20220211T210000
DTSTAMP:20260420T070813
CREATED:20220201T184507Z
LAST-MODIFIED:20220201T184507Z
UID:1955-1644598800-1644613200@gatewoodclub.com
SUMMARY:Valentine's Happy Hour
DESCRIPTION:Valentine’s Happy Hour–  Karaoke\, Chocolate Fondue Flight and wear your “Red” apparel to be entered for a chance to win a “Valentine’s Basket”.  February’s Drink of the MONTH “Raspberry Martini” – yummy!
URL:https://gatewoodclub.com/event/valentines-happy-hour/
CATEGORIES:Clubhouse,Community
END:VEVENT
END:VCALENDAR