BEGIN:VCALENDAR
VERSION:2.0
PRODID:-//Gatewood Club &amp; Community - ECPv6.15.18//NONSGML v1.0//EN
CALSCALE:GREGORIAN
METHOD:PUBLISH
X-ORIGINAL-URL:https://gatewoodclub.com
X-WR-CALDESC:Events for Gatewood Club &amp; Community
REFRESH-INTERVAL;VALUE=DURATION:PT1H
X-Robots-Tag:noindex
X-PUBLISHED-TTL:PT1H
BEGIN:VTIMEZONE
TZID:America/New_York
BEGIN:DAYLIGHT
TZOFFSETFROM:-0500
TZOFFSETTO:-0400
TZNAME:EDT
DTSTART:20200308T070000
END:DAYLIGHT
BEGIN:STANDARD
TZOFFSETFROM:-0400
TZOFFSETTO:-0500
TZNAME:EST
DTSTART:20201101T060000
END:STANDARD
BEGIN:DAYLIGHT
TZOFFSETFROM:-0500
TZOFFSETTO:-0400
TZNAME:EDT
DTSTART:20210314T070000
END:DAYLIGHT
BEGIN:STANDARD
TZOFFSETFROM:-0400
TZOFFSETTO:-0500
TZNAME:EST
DTSTART:20211107T060000
END:STANDARD
BEGIN:DAYLIGHT
TZOFFSETFROM:-0500
TZOFFSETTO:-0400
TZNAME:EDT
DTSTART:20220313T070000
END:DAYLIGHT
BEGIN:STANDARD
TZOFFSETFROM:-0400
TZOFFSETTO:-0500
TZNAME:EST
DTSTART:20221106T060000
END:STANDARD
END:VTIMEZONE
BEGIN:VEVENT
DTSTART;TZID=America/New_York:20211125T080000
DTEND;TZID=America/New_York:20211125T100000
DTSTAMP:20260420T122607
CREATED:20211001T091101Z
LAST-MODIFIED:20211001T091123Z
UID:1823-1637827200-1637834400@gatewoodclub.com
SUMMARY:Race to be Thankful
DESCRIPTION:Come join us for a fun 5K run/walk through the beautiful Gatewood neighborhood on Thanksgiving Day!  This race features stunning autumn views passing the peaceful ponds and magnificent woods of Gatewood.  The course is paved and rolling in terrain with minimal traffic. All abilities and ages are welcome. Prizes will be given to the overall male and female runners\, overall masters male and female winner and to age group winners in 10 year increments. We offer terrific post race goodies for breakfast including hot coffee and hot chocolate. You can register with or without a t shirt as you please.  \n\n\n\nThis is our 7th year and this race is organized by the Episcopal Church of the Resurrection of Greenwood.  We donate all profits to local charities including the Greenwood Food Bank\, the Greenwood Soup Kitchen\, United Ministries\, Community Initiatives\, and Bowers Rogers Home.  \n\n\n\nRACE CONTACT INFO \n\n\n\nRegistration Website is here: https://runsignup.com/Race/SC/Greenwood/ThanksgivingDayRacetoBeThankful \n\n\n\nRegistration ends November 19\, 2021 at 11:59pm EST \n\n\n\nPast results are located here:  https://sites.google.com/view/its-about-time/results?authuser=0 \n\n\n\nIf you have any questions about this race\, please contact the race director at kimjer100@gmail.com
URL:https://gatewoodclub.com/event/race-to-be-thankful/
CATEGORIES:Clubhouse,Community,Other
END:VEVENT
END:VCALENDAR