BEGIN:VCALENDAR
VERSION:2.0
PRODID:-//Gatewood Club &amp; Community - ECPv6.15.18//NONSGML v1.0//EN
CALSCALE:GREGORIAN
METHOD:PUBLISH
X-ORIGINAL-URL:https://gatewoodclub.com
X-WR-CALDESC:Events for Gatewood Club &amp; Community
REFRESH-INTERVAL;VALUE=DURATION:PT1H
X-Robots-Tag:noindex
X-PUBLISHED-TTL:PT1H
BEGIN:VTIMEZONE
TZID:America/New_York
BEGIN:DAYLIGHT
TZOFFSETFROM:-0500
TZOFFSETTO:-0400
TZNAME:EDT
DTSTART:20200308T070000
END:DAYLIGHT
BEGIN:STANDARD
TZOFFSETFROM:-0400
TZOFFSETTO:-0500
TZNAME:EST
DTSTART:20201101T060000
END:STANDARD
BEGIN:DAYLIGHT
TZOFFSETFROM:-0500
TZOFFSETTO:-0400
TZNAME:EDT
DTSTART:20210314T070000
END:DAYLIGHT
BEGIN:STANDARD
TZOFFSETFROM:-0400
TZOFFSETTO:-0500
TZNAME:EST
DTSTART:20211107T060000
END:STANDARD
BEGIN:DAYLIGHT
TZOFFSETFROM:-0500
TZOFFSETTO:-0400
TZNAME:EDT
DTSTART:20220313T070000
END:DAYLIGHT
BEGIN:STANDARD
TZOFFSETFROM:-0400
TZOFFSETTO:-0500
TZNAME:EST
DTSTART:20221106T060000
END:STANDARD
END:VTIMEZONE
BEGIN:VEVENT
DTSTART;TZID=America/New_York:20210719T090000
DTEND;TZID=America/New_York:20210719T103000
DTSTAMP:20260420T184603
CREATED:20210713T210837Z
LAST-MODIFIED:20210713T210838Z
UID:1591-1626685200-1626690600@gatewoodclub.com
SUMMARY:Pickleball
DESCRIPTION:For more information\, please see the news item post at https://gatewoodclub.com/news/coming-soon-to-gatewood-pickleball/
URL:https://gatewoodclub.com/event/pickleball-4/
CATEGORIES:Other
END:VEVENT
BEGIN:VEVENT
DTSTART;TZID=America/New_York:20210719T173000
DTEND;TZID=America/New_York:20210719T183000
DTSTAMP:20260420T184603
CREATED:20210629T130656Z
LAST-MODIFIED:20210801T102050Z
UID:1568-1626715800-1626719400@gatewoodclub.com
SUMMARY:Landscaping Committee Meeting
DESCRIPTION:The Landscaping Committee is in need of some volunteer committee members\, as there is much work and consultation to be done to keep our neighborhood beautiful and well-maintained. Other than focusing on needed maintenance\, costs\, and repairs\, our committee is also looking to provide social gardening opportunities\, informational talks\, or possibly reinstate a Yard of the Month program. If interested in serving\, or if you have any questions or suggestions\, please contact the Chair or complete the online survey at https://gatewoodclub.com/landscaping-committee-feedback/. Our next meeting will be Monday\, July 19 at 5:30 at the clubhouse. Please RSVP or stop by that evening; all are welcome to attend!
URL:https://gatewoodclub.com/event/landscaping-committee-meeting/
CATEGORIES:Community
END:VEVENT
END:VCALENDAR